BEGIN:VCALENDAR
VERSION:2.0
PRODID:-//Squarespace Inc/Squarespace 6//v6//EN
BEGIN:VEVENT
UID:5e23bf336810047965c44b5b@squarespace.com
DTSTAMP:20200119T024059Z
DTSTART:20200208T230000Z
DTEND:20200329T000000Z
SUMMARY:Learn to weave with Jackie Made This
GEO:-37.783999;144.977146
LOCATION:Handweavers and Spinners Guild of Melbourne\, 655 Nicholson St\, C
 arlton North VIC 3054\, Australia
END:VEVENT
END:VCALENDAR
